BEGIN:VCALENDAR
VERSION:2.0
PRODID:-//Tischgemeinschaft Brandstifter - ECPv6.11.1//NONSGML v1.0//EN
CALSCALE:GREGORIAN
METHOD:PUBLISH
X-WR-CALNAME:Tischgemeinschaft Brandstifter
X-ORIGINAL-URL:https://tg-brandstifter.de
X-WR-CALDESC:Veranstaltungen für Tischgemeinschaft Brandstifter
REFRESH-INTERVAL;VALUE=DURATION:PT1H
X-Robots-Tag:noindex
X-PUBLISHED-TTL:PT1H
BEGIN:VTIMEZONE
TZID:Europe/Berlin
BEGIN:DAYLIGHT
TZOFFSETFROM:+0100
TZOFFSETTO:+0200
TZNAME:CEST
DTSTART:20180325T010000
END:DAYLIGHT
BEGIN:STANDARD
TZOFFSETFROM:+0200
TZOFFSETTO:+0100
TZNAME:CET
DTSTART:20181028T010000
END:STANDARD
BEGIN:DAYLIGHT
TZOFFSETFROM:+0100
TZOFFSETTO:+0200
TZNAME:CEST
DTSTART:20190331T010000
END:DAYLIGHT
BEGIN:STANDARD
TZOFFSETFROM:+0200
TZOFFSETTO:+0100
TZNAME:CET
DTSTART:20191027T010000
END:STANDARD
BEGIN:DAYLIGHT
TZOFFSETFROM:+0100
TZOFFSETTO:+0200
TZNAME:CEST
DTSTART:20200329T010000
END:DAYLIGHT
BEGIN:STANDARD
TZOFFSETFROM:+0200
TZOFFSETTO:+0100
TZNAME:CET
DTSTART:20201025T010000
END:STANDARD
BEGIN:DAYLIGHT
TZOFFSETFROM:+0100
TZOFFSETTO:+0200
TZNAME:CEST
DTSTART:20210328T010000
END:DAYLIGHT
BEGIN:STANDARD
TZOFFSETFROM:+0200
TZOFFSETTO:+0100
TZNAME:CET
DTSTART:20211031T010000
END:STANDARD
BEGIN:DAYLIGHT
TZOFFSETFROM:+0100
TZOFFSETTO:+0200
TZNAME:CEST
DTSTART:20220327T010000
END:DAYLIGHT
BEGIN:STANDARD
TZOFFSETFROM:+0200
TZOFFSETTO:+0100
TZNAME:CET
DTSTART:20221030T010000
END:STANDARD
BEGIN:DAYLIGHT
TZOFFSETFROM:+0100
TZOFFSETTO:+0200
TZNAME:CEST
DTSTART:20230326T010000
END:DAYLIGHT
BEGIN:STANDARD
TZOFFSETFROM:+0200
TZOFFSETTO:+0100
TZNAME:CET
DTSTART:20231029T010000
END:STANDARD
END:VTIMEZONE
BEGIN:VEVENT
DTSTART;TZID=Europe/Berlin:20231125T193000
DTEND;TZID=Europe/Berlin:20231125T233000
DTSTAMP:20260423T195552
CREATED:20230128T160441Z
LAST-MODIFIED:20230128T160441Z
UID:924-1700940600-1700955000@tg-brandstifter.de
SUMMARY:Jahresabschlussfest (in Planung)
DESCRIPTION:
URL:https://tg-brandstifter.de/event/jahresabschlussfest-in-planung/
END:VEVENT
BEGIN:VEVENT
DTSTART;TZID=Europe/Berlin:20230812T160000
DTEND;TZID=Europe/Berlin:20230812T220000
DTSTAMP:20260423T195552
CREATED:20230129T130044Z
LAST-MODIFIED:20230129T130044Z
UID:922-1691856000-1691877600@tg-brandstifter.de
SUMMARY:Sommerfest (in Planung)
DESCRIPTION:
URL:https://tg-brandstifter.de/event/sommerfest-in-planung/
END:VEVENT
BEGIN:VEVENT
DTSTART;TZID=Europe/Berlin:20230611T110000
DTEND;TZID=Europe/Berlin:20230611T140000
DTSTAMP:20260423T195552
CREATED:20230129T130020Z
LAST-MODIFIED:20230129T130020Z
UID:920-1686481200-1686492000@tg-brandstifter.de
SUMMARY:„Baumtreff“ Lantz'scher Park
DESCRIPTION:Treffpunkt: Lohauser Hof \n 
URL:https://tg-brandstifter.de/event/baumtreff-lantzscher-park/
END:VEVENT
BEGIN:VEVENT
DTSTART;TZID=Europe/Berlin:20230325T110000
DTEND;TZID=Europe/Berlin:20230325T180000
DTSTAMP:20260423T195552
CREATED:20230128T155558Z
LAST-MODIFIED:20230129T130143Z
UID:916-1679742000-1679767200@tg-brandstifter.de
SUMMARY:„Treckerfahrt“ zu unserem „Denkmal“ Röttger Gedenktafel
DESCRIPTION:Info Gedenktafel Röttger
URL:https://tg-brandstifter.de/event/treckerfahrt-zu-unserem-denkmal-roettger-gedenktafel/
END:VEVENT
BEGIN:VEVENT
DTSTART;TZID=Europe/Berlin:20230127T193000
DTEND;TZID=Europe/Berlin:20230127T220000
DTSTAMP:20260423T195552
CREATED:20230128T154625Z
LAST-MODIFIED:20230129T130208Z
UID:914-1674847800-1674856800@tg-brandstifter.de
SUMMARY:Treff der TG Brandstifter zum Jahresanfang
DESCRIPTION:„Im Kühlen Grund“
URL:https://tg-brandstifter.de/event/treff-der-tg-brandstifter-zum-jahresanfang/
END:VEVENT
BEGIN:VEVENT
DTSTART;TZID=Europe/Berlin:20200623T193000
DTEND;TZID=Europe/Berlin:20200623T233000
DTSTAMP:20260423T195552
CREATED:20191025T185326Z
LAST-MODIFIED:20191025T192813Z
UID:574-1592940600-1592955000@tg-brandstifter.de
SUMMARY:70 Jahre TG Brandstifter
DESCRIPTION:
URL:https://tg-brandstifter.de/event/70-jahre-tg-brandstifter/
CATEGORIES:Veranstaltungen Henkel-Saal
END:VEVENT
BEGIN:VEVENT
DTSTART;TZID=Europe/Berlin:20191130T183000
DTEND;TZID=Europe/Berlin:20191130T233000
DTSTAMP:20260423T195552
CREATED:20191016T164400Z
LAST-MODIFIED:20191025T192903Z
UID:566-1575138600-1575156600@tg-brandstifter.de
SUMMARY:TG Brandstifter Jahresabschluss-Essen
DESCRIPTION:
URL:https://tg-brandstifter.de/event/tg-brandstifter-jahresabschluss-essen/
LOCATION:Haus Rheingarten\, Leuchtenberger Kirchweg 86\, Düsseldorf\, NRW\, 40474\, Deutschland
CATEGORIES:Mitgliederversammlung
END:VEVENT
BEGIN:VEVENT
DTSTART;TZID=Europe/Berlin:20191025T193000
DTEND;TZID=Europe/Berlin:20191025T233000
DTSTAMP:20260423T195552
CREATED:20191016T163610Z
LAST-MODIFIED:20191016T163610Z
UID:564-1572031800-1572046200@tg-brandstifter.de
SUMMARY:2.  1/2 Jahres Treffen
DESCRIPTION:
URL:https://tg-brandstifter.de/event/2-1-2-jahres-treffen/
LOCATION:Haus Rheingarten\, Leuchtenberger Kirchweg 86\, Düsseldorf\, NRW\, 40474\, Deutschland
CATEGORIES:1/2 Jahrestreffen
END:VEVENT
BEGIN:VEVENT
DTSTART;TZID=Europe/Berlin:20191005T100000
DTEND;TZID=Europe/Berlin:20191005T180000
DTSTAMP:20260423T195552
CREATED:20190927T155216Z
LAST-MODIFIED:20190927T155216Z
UID:554-1570269600-1570298400@tg-brandstifter.de
SUMMARY:Planwagenfahrt
DESCRIPTION:Liebe Brandstifter\, \nTreffpunkt 10:00 Uhr Haus Rheingarten \nAbfahrt mit dem Planwagen gegen 11:00 Uhr \nAnkunft gegen 18:00 Uhr im Haus Rheingarten.
URL:https://tg-brandstifter.de/event/planwagenfahrt/
LOCATION:Haus Rheingarten\, Leuchtenberger Kirchweg 86\, Düsseldorf\, NRW\, 40474\, Deutschland
CATEGORIES:Jongestour
END:VEVENT
BEGIN:VEVENT
DTSTART;TZID=Europe/Berlin:20181211T200000
DTEND;TZID=Europe/Berlin:20181211T210000
DTSTAMP:20260423T195552
CREATED:20181023T191111Z
LAST-MODIFIED:20181102T113131Z
UID:516-1544558400-1544562000@tg-brandstifter.de
SUMMARY:„Der Landtag im Herzen von Düsseldorf“
DESCRIPTION:ANDRÉ KUPER\,\nPräsident des Landtags Nordrhein-Westfalen
URL:https://tg-brandstifter.de/event/der-landtag-im-herzen-von-duesseldorf/
LOCATION:Henkel-Saal\, Ratinger Straße 25\, Düsseldorf\, 40213
CATEGORIES:Veranstaltungen Henkel-Saal
END:VEVENT
BEGIN:VEVENT
DTSTART;TZID=Europe/Berlin:20181124T190000
DTEND;TZID=Europe/Berlin:20181124T230000
DTSTAMP:20260423T195552
CREATED:20180428T200603Z
LAST-MODIFIED:20180428T200603Z
UID:448-1543086000-1543100400@tg-brandstifter.de
SUMMARY:Weihnachtsfeier TG Brandstifter
DESCRIPTION:
URL:https://tg-brandstifter.de/event/weihnachtsfeier-tg-brandstifter/
END:VEVENT
BEGIN:VEVENT
DTSTART;TZID=Europe/Berlin:20181106T200000
DTEND;TZID=Europe/Berlin:20181106T210000
DTSTAMP:20260423T195552
CREATED:20181102T113752Z
LAST-MODIFIED:20181102T113752Z
UID:532-1541534400-1541538000@tg-brandstifter.de
SUMMARY:SOS-Kinderdorf Düsseldorf
DESCRIPTION:Fr. Cora Müller
URL:https://tg-brandstifter.de/event/sos-kinderdorf-duesseldorf/
CATEGORIES:Veranstaltungen Henkel-Saal
END:VEVENT
BEGIN:VEVENT
DTSTART;TZID=Europe/Berlin:20181102T193000
DTEND;TZID=Europe/Berlin:20181102T233000
DTSTAMP:20260423T195552
CREATED:20180501T094356Z
LAST-MODIFIED:20181015T054506Z
UID:450-1541187000-1541201400@tg-brandstifter.de
SUMMARY:2.  1/2 Jahres Treffen
DESCRIPTION:
URL:https://tg-brandstifter.de/event/1-2-jahres-treffen-2/
LOCATION:Im Kühlen Grund\, Lohauser Dorfstraße 41\, Düsseldorf\, NRW\, 40474\, Deutschland
CATEGORIES:1/2 Jahrestreffen
END:VEVENT
BEGIN:VEVENT
DTSTART;TZID=Europe/Berlin:20181030T200000
DTEND;TZID=Europe/Berlin:20181030T210000
DTSTAMP:20260423T195552
CREATED:20181023T190237Z
LAST-MODIFIED:20181023T191023Z
UID:512-1540929600-1540933200@tg-brandstifter.de
SUMMARY:Heimat
DESCRIPTION:ARMIN LASCHET\,\nMinisterpräsident des Landes\nNordrhein-Westfalen
URL:https://tg-brandstifter.de/event/heimat-armin-laschet/
LOCATION:Henkel-Saal\, Ratinger Straße 25\, Düsseldorf\, 40213
CATEGORIES:Veranstaltungen Henkel-Saal
END:VEVENT
BEGIN:VEVENT
DTSTART;TZID=Europe/Berlin:20181023T200000
DTEND;TZID=Europe/Berlin:20181023T210000
DTSTAMP:20260423T195552
CREATED:20181023T190942Z
LAST-MODIFIED:20181023T190942Z
UID:520-1540324800-1540328400@tg-brandstifter.de
SUMMARY:Jonges-Couch
DESCRIPTION:RUDI VÖLLER\,\nManager\, Moderator\, Trainer\, Fußballspieler\nModerator:\nANDRÉ ZALBERTUS\,\nFernsehjournalist und Buchautor
URL:https://tg-brandstifter.de/event/jonges-couch/
LOCATION:Henkel-Saal\, Ratinger Straße 25\, Düsseldorf\, 40213
CATEGORIES:Veranstaltungen Henkel-Saal
END:VEVENT
BEGIN:VEVENT
DTSTART;TZID=Europe/Berlin:20180928T100000
DTEND;TZID=Europe/Berlin:20180930T180000
DTSTAMP:20260423T195552
CREATED:20180304T145412Z
LAST-MODIFIED:20180304T145943Z
UID:178-1538128800-1538330400@tg-brandstifter.de
SUMMARY:Trier Jongestour 2018
DESCRIPTION:Treffpunkt und Beginn der Reise ist das  Haus Rheingarten
URL:https://tg-brandstifter.de/event/trier-jongestour-2018/
LOCATION:Haus Rheingarten\, Leuchtenberger Kirchweg 86\, Düsseldorf\, NRW\, 40474\, Deutschland
CATEGORIES:Jongestour
ORGANIZER;CN="Michael Riemer & Karl-Josef Rath":MAILTO:michael.riemer@tg-brandstifter.de
END:VEVENT
BEGIN:VEVENT
DTSTART;TZID=Europe/Berlin:20180822T193000
DTEND;TZID=Europe/Berlin:20180822T213000
DTSTAMP:20260423T195552
CREATED:20180427T162326Z
LAST-MODIFIED:20180427T162434Z
UID:442-1534966200-1534973400@tg-brandstifter.de
SUMMARY:Apollo Varieté: Bourlesque
DESCRIPTION:
URL:https://tg-brandstifter.de/event/apollo-variete-bourlesque/
END:VEVENT
BEGIN:VEVENT
DTSTART;TZID=Europe/Berlin:20180821T200000
DTEND;TZID=Europe/Berlin:20180821T210000
DTSTAMP:20260423T195552
CREATED:20180427T162045Z
LAST-MODIFIED:20180427T162050Z
UID:440-1534881600-1534885200@tg-brandstifter.de
SUMMARY:Impulsvortrag: „Absinth\, zwischen Legende und Realität“
DESCRIPTION:Referent: Francois Besancon \n„Keine Angst vor Veränderungen – Wie die Rheinische Post erfolgreich im digitalen Zeitalter angekommen ist“ Referent: Tom Bender\, Geschäftsführer der RP-Mediengruppe
URL:https://tg-brandstifter.de/event/impulsvortrag-absinth-zwischen-legende-und-realitaet/
LOCATION:Henkel-Saal\, Ratinger Straße 25\, Düsseldorf\, 40213
CATEGORIES:Veranstaltungen Henkel-Saal
END:VEVENT
BEGIN:VEVENT
DTSTART;TZID=Europe/Berlin:20180814T200000
DTEND;TZID=Europe/Berlin:20180814T210000
DTSTAMP:20260423T195552
CREATED:20180427T161727Z
LAST-MODIFIED:20180427T161900Z
UID:438-1534276800-1534280400@tg-brandstifter.de
SUMMARY:Forum “Regionen stellen sich vor“
DESCRIPTION:Referent: \nOrganisation: Ludolf Schulte
URL:https://tg-brandstifter.de/event/forum-regionen-stellen-sich-vor/
LOCATION:Henkel-Saal\, Ratinger Straße 25\, Düsseldorf\, 40213
CATEGORIES:Veranstaltungen Henkel-Saal
END:VEVENT
BEGIN:VEVENT
DTSTART;TZID=Europe/Berlin:20180811T070000
DTEND;TZID=Europe/Berlin:20180812T190000
DTSTAMP:20260423T195552
CREATED:20180311T191304Z
LAST-MODIFIED:20180311T191420Z
UID:366-1533970800-1534100400@tg-brandstifter.de
SUMMARY:Reitturnier RufV Lohausen e.V.
DESCRIPTION:Reit und Fahrverein Düsseldorf Lohausen \nSommerturnier:\n11. und 12. August 2018 \n 
URL:https://tg-brandstifter.de/event/reitturnier-rufv-lohausen-e-v/
LOCATION:Reitanlage Düsseldorf – Lohausen\, Im Lohauser Feld 4\, Düsseldorf\, 40474\, Deutschland
END:VEVENT
BEGIN:VEVENT
DTSTART;TZID=Europe/Berlin:20180807T200000
DTEND;TZID=Europe/Berlin:20180807T210000
DTSTAMP:20260423T195552
CREATED:20180427T161432Z
LAST-MODIFIED:20180427T161538Z
UID:435-1533672000-1533675600@tg-brandstifter.de
SUMMARY:Christian Lindner auf der Jongescouch
DESCRIPTION:„Ich stelle mich“ \nParteivorsitzender FDP Christian Lindner\, Moderator: Michael Bröcker\, Chefredakteur der RP
URL:https://tg-brandstifter.de/event/christian-lindner-auf-der-jongescouch-ich-stelle-mich/
LOCATION:Henkel-Saal\, Ratinger Straße 25\, Düsseldorf\, 40213
CATEGORIES:Veranstaltungen Henkel-Saal
END:VEVENT
BEGIN:VEVENT
DTSTART;TZID=Europe/Berlin:20180731T200000
DTEND;TZID=Europe/Berlin:20180731T210000
DTSTAMP:20260423T195552
CREATED:20180427T161001Z
LAST-MODIFIED:20180427T161129Z
UID:433-1533067200-1533070800@tg-brandstifter.de
SUMMARY:Deutschland in Gefahr
DESCRIPTION:– wie ein schwacher Staat unsere Sicherheit aufs Spiel setzt\, Referent: Herr Rainer Wendt\, Vorsitzender der deutschen Polizeigewerkschaft
URL:https://tg-brandstifter.de/event/deutschland-in-gefahr/
LOCATION:Henkel-Saal\, Ratinger Straße 25\, Düsseldorf\, 40213
CATEGORIES:Veranstaltungen Henkel-Saal
END:VEVENT
BEGIN:VEVENT
DTSTART;TZID=Europe/Berlin:20180724T200000
DTEND;TZID=Europe/Berlin:20180724T210000
DTSTAMP:20260423T195552
CREATED:20180427T160730Z
LAST-MODIFIED:20180427T160730Z
UID:431-1532462400-1532466000@tg-brandstifter.de
SUMMARY:„Empfang des Schützenkönigs“
DESCRIPTION:Orchester ArDo\, Tambourcorps Maximilian 04 unter der Leitung von Herrn Franz-Dieter Schmitz \nLaudatio: Herr Mario Tranti
URL:https://tg-brandstifter.de/event/empfang-des-schuetzenkoenigs/
LOCATION:Henkel-Saal\, Ratinger Straße 25\, Düsseldorf\, 40213
CATEGORIES:Veranstaltungen Henkel-Saal
END:VEVENT
BEGIN:VEVENT
DTSTART;TZID=Europe/Berlin:20180717T190000
DTEND;TZID=Europe/Berlin:20180717T210000
DTSTAMP:20260423T195552
CREATED:20180427T160053Z
LAST-MODIFIED:20180427T160136Z
UID:429-1531854000-1531861200@tg-brandstifter.de
SUMMARY:Treffen auf dem Schützenplatz
DESCRIPTION:19:00 Uhr Treffen auf dem Schützenplatz \n20:00 Uhr Huldigung an die neue Schützenmajestät auf dem Schützenplatz
URL:https://tg-brandstifter.de/event/treffen-auf-dem-schuetzenplatz/
END:VEVENT
BEGIN:VEVENT
DTSTART;TZID=Europe/Berlin:20180710T200000
DTEND;TZID=Europe/Berlin:20180710T210000
DTSTAMP:20260423T195552
CREATED:20180427T155816Z
LAST-MODIFIED:20180427T155816Z
UID:427-1531252800-1531256400@tg-brandstifter.de
SUMMARY:„Querschnittslähmung“
DESCRIPTION:Referent: Herr Prof. Dr. Hans Werner Müller\, Leiter Molekulare Neurobiologie\, Heinrich-Heine-Universität (der Vortrag wird mit Jazz untermalt).
URL:https://tg-brandstifter.de/event/querschnittslaehmung/
LOCATION:Henkel-Saal\, Ratinger Straße 25\, Düsseldorf\, 40213
CATEGORIES:Veranstaltungen Henkel-Saal
END:VEVENT
BEGIN:VEVENT
DTSTART;TZID=Europe/Berlin:20180703T160000
DTEND;TZID=Europe/Berlin:20180703T183000
DTSTAMP:20260423T195552
CREATED:20180427T155550Z
LAST-MODIFIED:20180427T155555Z
UID:425-1530633600-1530642600@tg-brandstifter.de
SUMMARY:Jonges gucken die „Fußball WM“
DESCRIPTION:
URL:https://tg-brandstifter.de/event/jonges-gucken-die-fussball-wm/
LOCATION:Henkel-Saal\, Ratinger Straße 25\, Düsseldorf\, 40213
CATEGORIES:Veranstaltungen Henkel-Saal
END:VEVENT
BEGIN:VEVENT
DTSTART;TZID=Europe/Berlin:20180701T150000
DTEND;TZID=Europe/Berlin:20180701T200000
DTSTAMP:20260423T195552
CREATED:20180427T151533Z
LAST-MODIFIED:20180427T151533Z
UID:413-1530457200-1530475200@tg-brandstifter.de
SUMMARY:TG Brandstifter Sommerfest
DESCRIPTION:Termin unter Vorbehalt
URL:https://tg-brandstifter.de/event/tg-brandstifter-sommerfest/
LOCATION:Lohauser Hof\, Lohauser Dorfstraße 53\, Düsseldorf\, NRW\, 40474\, Deutschland
END:VEVENT
BEGIN:VEVENT
DTSTART;TZID=Europe/Berlin:20180626T200000
DTEND;TZID=Europe/Berlin:20180626T210000
DTSTAMP:20260423T195552
CREATED:20180427T155239Z
LAST-MODIFIED:20180427T155308Z
UID:423-1530043200-1530046800@tg-brandstifter.de
SUMMARY:Vorstellung Startup-Initiative Düsseldorf
DESCRIPTION:Referent: Herr Uwe Kerkmann\, Leiter des Wirtschaftsförderungsamtes und \n„Ick koof mir´n Startup – oder wie man Business Angel wird“ Referent: Herr Arne Paul Oltmann\, geschäftsführender Gesellschafter des Rotonda Investor Office und Gründungsvorstand von AngelEngine
URL:https://tg-brandstifter.de/event/vorstellung-startup-initiative-duesseldorf/
CATEGORIES:Veranstaltungen Henkel-Saal
END:VEVENT
BEGIN:VEVENT
DTSTART;TZID=Europe/Berlin:20180619T200000
DTEND;TZID=Europe/Berlin:20180619T210000
DTSTAMP:20260423T195552
CREATED:20180427T154821Z
LAST-MODIFIED:20180427T154821Z
UID:421-1529438400-1529442000@tg-brandstifter.de
SUMMARY:„Presserückblick“
DESCRIPTION:Referent: Herr Christian Herrendorf (WZ)\, Aufnahme neuer Mitglieder\, \nmusikalische Begleitung: Jazz Intakt unter der Leitung von Herrn Octavian Zemlicka
URL:https://tg-brandstifter.de/event/presserueckblick-2/
LOCATION:Henkel-Saal\, Ratinger Straße 25\, Düsseldorf\, 40213
CATEGORIES:Veranstaltungen Henkel-Saal
END:VEVENT
BEGIN:VEVENT
DTSTART;TZID=Europe/Berlin:20180612T200000
DTEND;TZID=Europe/Berlin:20180612T210000
DTSTAMP:20260423T195552
CREATED:20180427T154150Z
LAST-MODIFIED:20180427T154542Z
UID:419-1528833600-1528837200@tg-brandstifter.de
SUMMARY:Ich stelle mich
DESCRIPTION:Moderator: Ulli Tückmantel\, Chefredakteur Westdeutsche Zeitung \nReferent: Herr Prof. Dr. Andreas Pinkwart\, Minister für Wirtschaft\, Innovation\, Digitalisierung und Energie
URL:https://tg-brandstifter.de/event/ich-stelle-mich/
LOCATION:Henkel-Saal\, Ratinger Straße 25\, Düsseldorf\, 40213
CATEGORIES:Veranstaltungen Henkel-Saal
END:VEVENT
END:VCALENDAR